BEGIN:VCALENDAR
VERSION:2.0
PRODID:-//Contratero//ES
CALSCALE:GREGORIAN
METHOD:PUBLISH
BEGIN:VEVENT
UID:EXP 2018-04@contratero.es
DTSTAMP:20260425T172658Z
DTSTART:20180508T235959
DTEND:20180509T005959
SUMMARY:Cierre: Servicio Creación y Puesta en Funcionamiento Plata
DESCRIPTION:Servicio Creación y Puesta en Funcionamiento Plataforma Información Consolidada Investigación e Innovación Biomédica de la Conselleria de Sanitat Universal i Salut Pública GVA.\\n\\nOrganismo: Junta de Gobierno de la Fundación para el Fomento de la Investigación Sanitaria y Biomédica de la Comunitat Valenciana (FISABIO)\\n\\nVer en Contratero: https://contratero.es/contracts/EXP 2018-04
URL:https://contratero.es/contracts/EXP 2018-04
STATUS:CONFIRMED
BEGIN:VALARM
TRIGGER:-P1D
ACTION:DISPLAY
DESCRIPTION:Recordatorio: Servicio Creación y Puesta en 
END:VALARM
END:VEVENT
END:VCALENDAR